BEGIN:VCALENDAR
VERSION:2.0
PRODID:https://www.kufer.de/kuferweb / DE
METHOD:PUBLISH
CALSCALE:GREGORIAN
X-WR-TIMEZONE:Europe/Berlin
BEGIN:VTIMEZONE
TZID:Europe/Berlin
X-LIC-LOCATION:Europe/Berlin
BEGIN:DAYLIGHT
TZOFFSETFROM:+0100
TZOFFSETTO:+0200
TZNAME:CEST
DTSTART:19700329T020000
RRULE:FREQ=YEARLY;INTERVAL=1;BYDAY=-1SU;BYMONTH=3
END:DAYLIGHT
BEGIN:STANDARD
TZOFFSETFROM:+0200
TZOFFSETTO:+0100
TZNAME:CET
DTSTART:19701025T030000
RRULE:FREQ=YEARLY;INTERVAL=1;BYDAY=-1SU;BYMONTH=10
END:STANDARD
END:VTIMEZONE
BEGIN:VEVENT
DTSTAMP:20260425T173622
DTSTART;TZID=Europe/Berlin:20260701T190000
DTEND;TZID=Europe/Berlin:20260701T200000
UID:261-3406-O-20260701T190000@VHSOBERMICHELBACH
SUMMARY:Rückenfit II Sommerkurs (261-3406-O) 
LOCATION:Bürgerhalle, Vacher Straße 25, 90587 Obermichelbach, Vacher Straße 25, 90587 Obermichelbach
END:VEVENT
BEGIN:VEVENT
DTSTAMP:20260425T173622
DTSTART;TZID=Europe/Berlin:20260708T190000
DTEND;TZID=Europe/Berlin:20260708T200000
UID:261-3406-O-20260708T190000@VHSOBERMICHELBACH
SUMMARY:Rückenfit II Sommerkurs (261-3406-O) 
LOCATION:Bürgerhalle, Vacher Straße 25, 90587 Obermichelbach, Vacher Straße 25, 90587 Obermichelbach
END:VEVENT
BEGIN:VEVENT
DTSTAMP:20260425T173622
DTSTART;TZID=Europe/Berlin:20260715T190000
DTEND;TZID=Europe/Berlin:20260715T200000
UID:261-3406-O-20260715T190000@VHSOBERMICHELBACH
SUMMARY:Rückenfit II Sommerkurs (261-3406-O) 
LOCATION:Bürgerhalle, Vacher Straße 25, 90587 Obermichelbach, Vacher Straße 25, 90587 Obermichelbach
END:VEVENT
BEGIN:VEVENT
DTSTAMP:20260425T173622
DTSTART;TZID=Europe/Berlin:20260722T190000
DTEND;TZID=Europe/Berlin:20260722T200000
UID:261-3406-O-20260722T190000@VHSOBERMICHELBACH
SUMMARY:Rückenfit II Sommerkurs (261-3406-O) 
LOCATION:Bürgerhalle, Vacher Straße 25, 90587 Obermichelbach, Vacher Straße 25, 90587 Obermichelbach
END:VEVENT
BEGIN:VEVENT
DTSTAMP:20260425T173622
DTSTART;TZID=Europe/Berlin:20260729T190000
DTEND;TZID=Europe/Berlin:20260729T200000
UID:261-3406-O-20260729T190000@VHSOBERMICHELBACH
SUMMARY:Rückenfit II Sommerkurs (261-3406-O) 
LOCATION:Bürgerhalle, Vacher Straße 25, 90587 Obermichelbach, Vacher Straße 25, 90587 Obermichelbach
END:VEVENT
BEGIN:VEVENT
DTSTAMP:20260425T173622
DTSTART;TZID=Europe/Berlin:20260805T190000
DTEND;TZID=Europe/Berlin:20260805T200000
UID:261-3406-O-20260805T190000@VHSOBERMICHELBACH
SUMMARY:Rückenfit II Sommerkurs (261-3406-O) 
LOCATION:Bürgerhalle, Vacher Straße 25, 90587 Obermichelbach, Vacher Straße 25, 90587 Obermichelbach
END:VEVENT
END:VCALENDAR